BEGIN:VCALENDAR
VERSION:2.0
PRODID:-//wp-events-plugin.com//7.2.3.1//EN
TZID:Europe/Berlin
X-WR-TIMEZONE:Europe/Berlin
BEGIN:VEVENT
UID:1345@rut-berlin.de
DTSTART;TZID=Europe/Berlin:20260519T173000
DTEND;TZID=Europe/Berlin:20260519T190000
DTSTAMP:20260414T135721Z
URL:https://rut-berlin.de/veranstaltungen/coming-out-gruppe-fuer-frauen-40
 plus-im-rut-mit-gabriele-15/
SUMMARY:Coming Out Gruppe für Frauen 40plus im RuT mit Gabriele
DESCRIPTION:\n\n\nFrauen mit BeHinderung sind ausdrücklich willkommen!\nDu
  träumst von einer Beziehung mit einer Frau? Oder bist verliebt in eine F
 rau\, aber (noch) mit einem Mann verheiratet oder lebst in einer Partnersc
 haft? Du hast vielleicht Kinder und weißt nicht\, wie soll ich es ihnen s
 agen? Du fragst dich\, ob du nicht zu alt bist für ein Coming Out?\nIn di
 eser Gruppe kannst du die Fragen stellen\, die dich bewegen und dich mit a
 nderen Frauen in ähnlicher Situation austauschen. Egal\, an welchem Punkt
  du gerade stehst\, hier kannst du dir die Zeit nehmen und schauen\, wo di
 ch dein Weg hinführt.\n\nAnmeldung bitte bis 18.05. unter 6 21 47 53 oder
  post@rut-berlin.de\n\n\n
ATTACH;FMTTYPE=image/jpeg:https://rut-berlin.de/wp-content/uploads/2021/09
 /Paarhaende_Liebe_FSU.jpeg
CATEGORIES:Coming out
LOCATION:RuT – Rad und Tat\, Schillerpromenade 1\, Berlin\, 12049\, Deuts
 chland
X-APPLE-STRUCTURED-LOCATION;VALUE=URI;X-ADDRESS=Schillerpromenade 1\, Berli
 n\, 12049\, Deutschland;X-APPLE-RADIUS=100;X-TITLE=RuT – Rad und Tat:geo
 :0,0
END:VEVENT
BEGIN:VTIMEZONE
TZID:Europe/Berlin
X-LIC-LOCATION:Europe/Berlin
BEGIN:DAYLIGHT
DTSTART:20260329T030000
TZOFFSETFROM:+0100
TZOFFSETTO:+0200
TZNAME:CEST
END:DAYLIGHT
END:VTIMEZONE
END:VCALENDAR