BEGIN:VCALENDAR
VERSION:2.0
PRODID:-//wp-events-plugin.com//7.2.3.1//EN
TZID:Europe/Berlin
X-WR-TIMEZONE:Europe/Berlin
BEGIN:VEVENT
UID:1283@rut-berlin.de
DTSTART;TZID=Europe/Berlin:20251021T150000
DTEND;TZID=Europe/Berlin:20251021T163000
DTSTAMP:20250915T105542Z
URL:https://rut-berlin.de/veranstaltungen/freies-schreiben-unter-anleitung
 -mit-mel-2/
SUMMARY:Freies Schreiben unter Anleitung mit Mel
DESCRIPTION:\n\n\n\n\nManchmal haben wir Knoten im Kopf\, in unseren Emotio
 nen\, wissen nicht\, wie wir alles entwirren und verständlich ausdrücken
  können.\nSchreiben kann ein wirksames Mittel sein\, uns wieder in Balanc
 e zu bringen. Das &gt\;Freie Schreiben&lt\; bedeutet\, dass du den Stift a
 nsetzt\, oder die Finger auf die Tastatur legst und beginnst Worte zu find
 en\, ohne vorher nachzudenken\, ohne Punkt und Komma\, ohne auf Rechtschre
 ibung zu achten.\nWir teilen diesen kleinen Workshop in drei kurze Schreib
 intervalle auf. Wir können uns (ist kein Muss!) danach gerne unsere Texte
  vorlesen.\n\nPapier und Stift werden vom RuT e.V. gestellt. Smartphone od
 er Laptop bringt ihr bitte selbst mit.\nDieser Workshop ist offen für Fli
 nta* Personen.\n\nKurz zu mir: Ich bin Mel. Seit nunmehr 5 Jahren im Besuc
 hsdienst im RuT. Ich schreibe seitdem ich 13 bin. Hatte schon öfter die G
 elegenheit derlei Schreibsessions zu planen und durchzuführen. Durfte ber
 eits einige Lesungen geben und glaube an die wundervolle Kraft des Schreib
 ens in schwierigen und überwältigenden Zeiten. Du wirst erstaunt sein\, 
 wie befreiend bereits ein verdrängter Gedanke\, ausformuliert deinem Foku
 s verschieben kann.\nNeugierig geworden?\nDann melde dich gerne bis zum 17
 .10. an.\nAnmeldung bitte unter 6 21 47 53 oder post@rut-berlin.de\n\n\n\n
 \n
ATTACH;FMTTYPE=image/jpeg:https://rut-berlin.de/wp-content/uploads/2025/06
 /IMG_0251.jpeg
CATEGORIES:Schreiben
LOCATION:RuT – Rad und Tat\, Schillerpromenade 1\, Berlin\, 12049\, Deuts
 chland
X-APPLE-STRUCTURED-LOCATION;VALUE=URI;X-ADDRESS=Schillerpromenade 1\, Berli
 n\, 12049\, Deutschland;X-APPLE-RADIUS=100;X-TITLE=RuT – Rad und Tat:geo
 :0,0
END:VEVENT
BEGIN:VTIMEZONE
TZID:Europe/Berlin
X-LIC-LOCATION:Europe/Berlin
BEGIN:DAYLIGHT
DTSTART:20250330T030000
TZOFFSETFROM:+0100
TZOFFSETTO:+0200
TZNAME:CEST
END:DAYLIGHT
END:VTIMEZONE
END:VCALENDAR