BEGIN:VCALENDAR
VERSION:2.0
PRODID:-//wp-events-plugin.com//7.2.3.1//EN
TZID:Europe/Berlin
X-WR-TIMEZONE:Europe/Berlin
BEGIN:VEVENT
UID:1255@rut-berlin.de
DTSTART;TZID=Europe/Berlin:20250814T160000
DTEND;TZID=Europe/Berlin:20250814T190000
DTSTAMP:20250718T110934Z
URL:https://rut-berlin.de/veranstaltungen/fuer-alle-spielwuetigen-8/
SUMMARY:Für alle Spielwütigen
DESCRIPTION:\n\n\n\n\nOffene Spielegruppe für Lesben mit und ohne BeHinder
 ung: Verschiedene Gesellschaftsspiele haben wir im RuT zur Nutzung da (z. 
 B. Rummikub\, Siedler von Catan\, diverse Kartenspiele)\, Lieblingsspiele 
 können gerne mitgebracht werden.\n\nAnmeldungen bitte bis 11.08. unter 6 
 21 47 53 oder post@rut-berlin.de\n\n\n\n\n
ATTACH;FMTTYPE=image/jpeg:https://rut-berlin.de/wp-content/uploads/2024/10
 /Spielenachmittag-scaled.jpg
CATEGORIES:Spielen
LOCATION:RuT – Rad und Tat\, Schillerpromenade 1\, Berlin\, 12049\, Deuts
 chland
X-APPLE-STRUCTURED-LOCATION;VALUE=URI;X-ADDRESS=Schillerpromenade 1\, Berli
 n\, 12049\, Deutschland;X-APPLE-RADIUS=100;X-TITLE=RuT – Rad und Tat:geo
 :0,0
END:VEVENT
BEGIN:VTIMEZONE
TZID:Europe/Berlin
X-LIC-LOCATION:Europe/Berlin
BEGIN:DAYLIGHT
DTSTART:20250330T030000
TZOFFSETFROM:+0100
TZOFFSETTO:+0200
TZNAME:CEST
END:DAYLIGHT
END:VTIMEZONE
END:VCALENDAR