BEGIN:VCALENDAR
VERSION:2.0
PRODID:-//wp-events-plugin.com//7.2.3.1//EN
TZID:Europe/Berlin
X-WR-TIMEZONE:Europe/Berlin
BEGIN:VEVENT
UID:658@rut-berlin.de
DTSTART:20210930T160000Z
DTEND:20210930T200000Z
DTSTAMP:20210823T103053Z
URL:https://rut-berlin.de/veranstaltungen/garten-hautnah-im-wandel-der-jah
 reszeiten-4/
SUMMARY:Garten Hautnah - Im Wandel der Jahreszeiten
DESCRIPTION:RuT-Sommerprogramm\nMonatliches Treffen im Garten in Britz. Mö
 glichkeit eines Spaziergangs durch andere Kolonien\, Beobachtungen von Flo
 ra und Fauna sowie Austausch darüber.\n\nWir freuen uns über eine Spende
 \n\nNur mit Anmeldung unter Telefon 030 6 21 47 53 oder post@rut-berlin.de
ATTACH;FMTTYPE=image/jpeg:https://rut-berlin.de/wp-content/uploads/2021/05
 /Limetten.jpg
CATEGORIES:Sommerprogramm
LOCATION:Britz\, Garten\, Ort wird nach Anmeldung bekannt gegeben\, Berlin\
 , Deutschland
X-APPLE-STRUCTURED-LOCATION;VALUE=URI;X-ADDRESS=Garten\, Ort wird nach Anme
 ldung bekannt gegeben\, Berlin\, Deutschland;X-APPLE-RADIUS=100;X-TITLE=Br
 itz:geo:0,0
END:VEVENT
END:VCALENDAR