BEGIN:VCALENDAR
VERSION:2.0
PRODID:-//wp-events-plugin.com//7.2.3.1//EN
TZID:Europe/Berlin
X-WR-TIMEZONE:Europe/Berlin
BEGIN:VEVENT
UID:544@rut-berlin.de
DTSTART:20210130T150000Z
DTEND:20210130T160000Z
DTSTAMP:20210126T102233Z
URL:https://rut-berlin.de/veranstaltungen/geschichten-die-mut-machen-vorle
 sestunde-online-3/
SUMMARY:Geschichten\, die Mut machen - Vorlesestunde - Online
DESCRIPTION:Online via Zoom\nGerade in dieser kalten und grauen Jahreszeit 
 können Geschichten\, zum Beispiel Texte\, Gedichte\, Lyrik oder auch selb
 st Geschriebenes in eine Welt entführen\, die uns den grauen Alltag verge
 ssen lassen. Während dieser Vorlesestunde via zoom können gegenseitig Te
 xte vorgelesen und ausgetauscht werden. Es ist für alle Frauen*\, die ger
 n vorlesen und die\, die gern zuhören.\n\nMit dabei Stephanie Kuhnen\n\nW
 eitere Infos per Mail - Der Link wird nach Anmeldung bekannt gegeben.\nBit
 te anmelden unter Telefon 030 6 21 47 53 oder post@rut-berlin.de\n
ATTACH;FMTTYPE=image/jpeg:https://rut-berlin.de/wp-content/uploads/2020/10
 /Foto-Geschichten-2020.jpg
CATEGORIES:Lesen
LOCATION:Online\, Internet\, Link wird nach Anmeldung bekannt gegeben\, Deu
 tschland
X-APPLE-STRUCTURED-LOCATION;VALUE=URI;X-ADDRESS=Internet\, Link wird nach A
 nmeldung bekannt gegeben\, Deutschland;X-APPLE-RADIUS=100;X-TITLE=Online:g
 eo:0,0
END:VEVENT
END:VCALENDAR