BEGIN:VCALENDAR
VERSION:2.0
PRODID:-//wp-events-plugin.com//7.2.3.1//EN
TZID:Europe/Berlin
X-WR-TIMEZONE:Europe/Berlin
BEGIN:VEVENT
UID:785@rut-berlin.de
DTSTART:20220706T160000Z
DTEND:20220706T180000Z
DTSTAMP:20220621T144837Z
URL:https://rut-berlin.de/veranstaltungen/gespraechsgruppe-lesbenwelten-65
 /
SUMMARY:Gesprächsgruppe Lesbenwelten 65+
DESCRIPTION:Mit Joanna\nWir treffen uns im RuT\, um bei Kaffee und Tee übe
 r Freud und Leid des lesbischen Älterwerdens zu plaudern. Wir hören zu\,
  erzählen\, machen uns gegenseitig Mut und haben Spaß miteinander. Bei s
 chönem Wetter gehen wir anschließend auf dem Tempelhofer Feld spazieren.
 \nWir freuen uns auf alle Frauen*\, die (neu) dazukommen!\nDa wir uns in g
 eschlossenen Räumen treffen ist für die Teilnahme ein tagesaktueller neg
 ativer Corona-Test erforderlich.\n\nBitte meldet Euch bis zum 04.07. unter
  post@rut-berlin.de oder telefonisch unter 6 21 47 53 an.
ATTACH;FMTTYPE=image/jpeg:https://rut-berlin.de/wp-content/uploads/2021/01
 /6-luftballons-zahl-65-mix-28cm.jpg
CATEGORIES:60+
LOCATION:RuT – Rad und Tat\, Schillerpromenade 1\, Berlin\, 12049\, Deuts
 chland
X-APPLE-STRUCTURED-LOCATION;VALUE=URI;X-ADDRESS=Schillerpromenade 1\, Berli
 n\, 12049\, Deutschland;X-APPLE-RADIUS=100;X-TITLE=RuT – Rad und Tat:geo
 :0,0
END:VEVENT
END:VCALENDAR