BEGIN:VCALENDAR
VERSION:2.0
PRODID:-//wp-events-plugin.com//7.2.3.1//EN
TZID:Europe/Berlin
X-WR-TIMEZONE:Europe/Berlin
BEGIN:VEVENT
UID:1219@rut-berlin.de
DTSTART:20250504T150000Z
DTEND:20250504T170000Z
DTSTAMP:20250424T150825Z
URL:https://rut-berlin.de/veranstaltungen/gruppe-lesbische-lebenslaeufe-in
 -und-um-das-rut-mit-kjell/
SUMMARY:Gruppe Lesbische Lebensläufe in und um das RuT - mit Kjell
DESCRIPTION:\n\n\n\n\nWir treffen uns einmal monatlich und tauschen uns üb
 er unsere Lebensläufe aus. Seit wann wussten wir\, dass wir lesbisch sind
 ? Wie gestalteten sich Beziehungen\, Familie\, Arbeit\, Freundschaften? Wi
 e gehen wir mit Alter\, Krankheiten\, BeHinderungen um? Was haben wir geme
 insam\, wo sind wir unterschiedlich?\nDanach geht es gerne gemeinsam zur n
 euen Vorstellung von Sigrid Grajek in die Wabe\, Vorstellung mit freiem Ei
 ntritt ab 19 Uhr\nhttps://www.wabe-berlin.info/mai-2025/04/\n\n\n\n\n
ATTACH;FMTTYPE=image/jpeg:https://rut-berlin.de/wp-content/uploads/2020/03
 /RUT-Logo-NEU.jpg
CATEGORIES:Begegnung,Gruppe
LOCATION:RuT – Rad und Tat\, Schillerpromenade 1\, Berlin\, 12049\, Deuts
 chland
X-APPLE-STRUCTURED-LOCATION;VALUE=URI;X-ADDRESS=Schillerpromenade 1\, Berli
 n\, 12049\, Deutschland;X-APPLE-RADIUS=100;X-TITLE=RuT – Rad und Tat:geo
 :0,0
END:VEVENT
END:VCALENDAR