BEGIN:VCALENDAR
VERSION:2.0
PRODID:-//wp-events-plugin.com//7.2.3.1//EN
TZID:Europe/Berlin
X-WR-TIMEZONE:Europe/Berlin
BEGIN:VEVENT
UID:1262@rut-berlin.de
DTSTART;TZID=Europe/Berlin:20250907T140000
DTEND;TZID=Europe/Berlin:20250907T160000
DTSTAMP:20250822T085216Z
URL:https://rut-berlin.de/veranstaltungen/gruppe-lesbische-lebenslaeufe-in
 -und-um-das-rut/
SUMMARY:Gruppe: Lesbische Lebensläufe in und um das RuT
DESCRIPTION:\n\n\n\n\nWir treffen uns einmal monatlich und tauschen uns üb
 er unsere Lebensläufe aus. Seit wann wussten wir\, dass wir lesbisch sind
 ? Wie gestalteten sich Beziehungen\, Familie\, Arbeit\, Freundschaften? Wi
 e gehen wir mit Alter\, Krankheiten\, BeHinderungen um? Was haben wir geme
 insam\, wo sind wir unterschiedlich?\n\nAm 7.9. wollen wir über unsere Ki
 ndheit sprechen. Wie haben wir gespielt? Was war damals wichtig? Hatten wi
 r schon Träume? Welche wollen\, machen sich wieder Notizen zum Vortragen 
 und Sammeln.\n\n\n\n\n
ATTACH;FMTTYPE=image/jpeg:https://rut-berlin.de/wp-content/uploads/2019/03
 /cropped-Logo_blau_960x960.jpg
CATEGORIES:Gruppe
LOCATION:RuT – Rad und Tat\, Schillerpromenade 1\, Berlin\, 12049\, Deuts
 chland
X-APPLE-STRUCTURED-LOCATION;VALUE=URI;X-ADDRESS=Schillerpromenade 1\, Berli
 n\, 12049\, Deutschland;X-APPLE-RADIUS=100;X-TITLE=RuT – Rad und Tat:geo
 :0,0
END:VEVENT
BEGIN:VTIMEZONE
TZID:Europe/Berlin
X-LIC-LOCATION:Europe/Berlin
BEGIN:DAYLIGHT
DTSTART:20250330T030000
TZOFFSETFROM:+0100
TZOFFSETTO:+0200
TZNAME:CEST
END:DAYLIGHT
END:VTIMEZONE
END:VCALENDAR