BEGIN:VCALENDAR
VERSION:2.0
PRODID:-//wp-events-plugin.com//7.2.3.1//EN
TZID:Europe/Berlin
X-WR-TIMEZONE:Europe/Berlin
BEGIN:VEVENT
UID:1237@rut-berlin.de
DTSTART:20250717T174500Z
DTEND:20250717T200000Z
DTSTAMP:20250619T095812Z
URL:https://rut-berlin.de/veranstaltungen/internationale-kreistaenze-auf-d
 em-tempelhofer-feld-mit-erna-6/
SUMMARY:Internationale Kreistänze auf dem Tempelhofer Feld mit Erna
DESCRIPTION:\n\n\n\n\nAlle Tanzbegeisterten und die es werden wollen sind h
 erzlich eingeladen zu kommen\, sowohl Anfängerinnen wie Tanzerfahrene. Un
 ser Treffen ist vor dem RuT. Von dort gehen wir gemeinsam auf das Tempelho
 fer Feld und tanzen um 18 Uhr schwungvolle und meditative Kreistänze.\nWe
 nn es regnet\, tanzen wir im RuT.\nAnmeldung bitte bis 16.07. unter Tel.: 
 6 21 47 53 oder post@rut-berlin.de\n\n\n\n\n
ATTACH;FMTTYPE=image/jpeg:https://rut-berlin.de/wp-content/uploads/2020/07
 /kreistanz.png
CATEGORIES:Tanzen
LOCATION:RuT – Rad und Tat\, Schillerpromenade 1\, Berlin\, 12049\, Deuts
 chland
X-APPLE-STRUCTURED-LOCATION;VALUE=URI;X-ADDRESS=Schillerpromenade 1\, Berli
 n\, 12049\, Deutschland;X-APPLE-RADIUS=100;X-TITLE=RuT – Rad und Tat:geo
 :0,0
END:VEVENT
END:VCALENDAR