BEGIN:VCALENDAR
VERSION:2.0
PRODID:-//wp-events-plugin.com//7.2.3.1//EN
TZID:Europe/Berlin
X-WR-TIMEZONE:Europe/Berlin
BEGIN:VEVENT
UID:1278@rut-berlin.de
DTSTART;TZID=Europe/Berlin:20251008T170000
DTEND;TZID=Europe/Berlin:20251008T190000
DTSTAMP:20250915T100504Z
URL:https://rut-berlin.de/veranstaltungen/iqz-lebensrealitaet-von-interper
 sonen-verstehen-grundwissen-und-medizinische-versorgungssituation/
SUMMARY:IQZ: Lebensrealität von Inter*Personen verstehen: Grundwissen und 
 medizinische Versorgungssituation
DESCRIPTION:\n\n\n\n\nOnline mit Ari\nDer Vortrag gibt eine Einführung in 
 das Thema Inter*geschlechtlichkeit\, vermittelt Grundlagenwissen und beleu
 chtet die medizinische Versorgungssituation. Im Anschluss ist Raum für of
 fene Fragen und einen Austausch mit Ari\, der vortragenden inter*geschlech
 tlichen Erfahrungsperson.\nDer Workshop wird zusammen mit der Denkwerkstat
 t organisiert.\nAnmeldung: iqz@rut-berlin.de \n\n\n\n\n
ATTACH;FMTTYPE=image/jpeg:https://rut-berlin.de/wp-content/uploads/2024/11
 /iqz-logo1_4c_WEB.png
CATEGORIES:IQZ - Inklusives Queeres Zentrum
LOCATION:Online\, Internet\, Link wird nach Anmeldung bekannt gegeben\, Deu
 tschland
X-APPLE-STRUCTURED-LOCATION;VALUE=URI;X-ADDRESS=Internet\, Link wird nach A
 nmeldung bekannt gegeben\, Deutschland;X-APPLE-RADIUS=100;X-TITLE=Online:g
 eo:0,0
END:VEVENT
BEGIN:VTIMEZONE
TZID:Europe/Berlin
X-LIC-LOCATION:Europe/Berlin
BEGIN:DAYLIGHT
DTSTART:20250330T030000
TZOFFSETFROM:+0100
TZOFFSETTO:+0200
TZNAME:CEST
END:DAYLIGHT
END:VTIMEZONE
END:VCALENDAR