BEGIN:VCALENDAR
VERSION:2.0
PRODID:-//wp-events-plugin.com//7.2.3.1//EN
TZID:Europe/Berlin
X-WR-TIMEZONE:Europe/Berlin
BEGIN:VEVENT
UID:1344@rut-berlin.de
DTSTART;TZID=Europe/Berlin:20260512T163000
DTEND;TZID=Europe/Berlin:20260512T183000
DTSTAMP:20260414T135411Z
URL:https://rut-berlin.de/veranstaltungen/iqz-queer-in-online-austauschtre
 ffen-mit-steph-und-hilkje/
SUMMARY:IQZ: Queer In – Online-Austauschtreffen mit Steph und Hilkje 
  
DESCRIPTION:\n\n\n\n\nGruppenangebot für von Ableismus betroffene Queers.\
 nMit DGS-Verdolmetschung.\nQueer In ist eine Online-Austauschgruppe für q
 ueere Menschen\, die beHindert werden\, chronisch erkrankt\, T*taub und/od
 er Krisen- und/oder Psychiatrieerfahren sind. Hier kannst du Gleichgesinnt
 e in einem sichereren Raum für Austausch\, Zugehörigkeit und Vernetzung 
 treffen.\nWir freuen uns über Teilnehmende unabhängig von Alter\, Geschl
 echt\, Art der BeHinderung\, Erkrankung\, Erfahrung\, kultureller Prägung
 \, Herkunft\, Religion\, Klasse und weiteren Kategorien.\nWir wollen es un
 s gemütlich machen! Und wir wollen über Themen sprechen\, die uns gerade
  beschäftigen. Sag uns gerne Bescheid\, wenn du etwas brauchst\, um an de
 m Treffen gut teilnehmen zu können.\nAnmeldung: iqz@rut-berlin.de \n\n\
 n\n\n
ATTACH;FMTTYPE=image/jpeg:https://rut-berlin.de/wp-content/uploads/2024/11
 /Queer-In-Beitragsbild.jpeg
CATEGORIES:IQZ - Inklusives Queeres Zentrum
LOCATION:Online\, Internet\, Link wird nach Anmeldung bekannt gegeben\, Deu
 tschland
X-APPLE-STRUCTURED-LOCATION;VALUE=URI;X-ADDRESS=Internet\, Link wird nach A
 nmeldung bekannt gegeben\, Deutschland;X-APPLE-RADIUS=100;X-TITLE=Online:g
 eo:0,0
END:VEVENT
BEGIN:VTIMEZONE
TZID:Europe/Berlin
X-LIC-LOCATION:Europe/Berlin
BEGIN:DAYLIGHT
DTSTART:20260329T030000
TZOFFSETFROM:+0100
TZOFFSETTO:+0200
TZNAME:CEST
END:DAYLIGHT
END:VTIMEZONE
END:VCALENDAR