BEGIN:VCALENDAR
VERSION:2.0
PRODID:-//wp-events-plugin.com//7.2.3.1//EN
TZID:Europe/Berlin
X-WR-TIMEZONE:Europe/Berlin
BEGIN:VEVENT
UID:805@rut-berlin.de
DTSTART:20220804T180000Z
DTEND:20220804T200000Z
DTSTAMP:20220726T181825Z
URL:https://rut-berlin.de/veranstaltungen/kreistanzen-auf-dem-tempelhofer-
 feld-8/
SUMMARY:Kreistanzen auf dem Tempelhofer Feld
DESCRIPTION:Mit Erna\n!Dies ist ein neuer Termin für Euch\, steht nicht im
  gedruckten Programm!\n\nWir treffen uns um 17.45 Uhr vor dem RuT und gehe
 n zusammen zu der Wiese auf dem Tempelhofer Feld. Alle\, die unsere Tanzwi
 ese schon kennen\, können sich direkt dort treffen (18 Uhr) - bitte gebt 
 uns dazu Bescheid bei der Anmeldung.\nWir lernen einige Kreistanzschritte 
 und tanzen gemeinsam in der Sonne. Bitte bringt jede einen 1\,5 m Schal mi
 t\, damit wir mit Abstand tanzen können.\nHerzliche Einladung an lesbisch
 e\, bisexuelle und andere Frauen* mit und ohne Migrationsgeschichte.\nBei 
 Regen fällt die Veranstaltung aus\, ein Ersatztermin wird angeboten.\nKos
 tenfrei – Spenden willkommen\n\nBitte anmelden bis Dienstag davor unter 
 6 21 47 53 oder post@rut-berlin.de
ATTACH;FMTTYPE=image/jpeg:https://rut-berlin.de/wp-content/uploads/2020/07
 /kreistanz.png
CATEGORIES:Workshop
LOCATION:RuT – Rad und Tat\, Schillerpromenade 1\, Berlin\, 12049\, Deuts
 chland
X-APPLE-STRUCTURED-LOCATION;VALUE=URI;X-ADDRESS=Schillerpromenade 1\, Berli
 n\, 12049\, Deutschland;X-APPLE-RADIUS=100;X-TITLE=RuT – Rad und Tat:geo
 :0,0
END:VEVENT
END:VCALENDAR