BEGIN:VCALENDAR
VERSION:2.0
PRODID:-//wp-events-plugin.com//7.2.3.1//EN
TZID:Europe/Berlin
X-WR-TIMEZONE:Europe/Berlin
BEGIN:VEVENT
UID:574@rut-berlin.de
DTSTART:20210310T160000Z
DTEND:20210310T180000Z
DTSTAMP:20210223T115153Z
URL:https://rut-berlin.de/veranstaltungen/lesben-cafe-online-mit-einem-qui
 z-zum-frauentag/
SUMMARY:Lesben-Café - Online - mit einem Quiz zum Frauentag
DESCRIPTION:Online via Zoom\nZum Internationalen Frauentag haben wir ein Qu
 iz vorbereitet\, zu dem wir Euch herzlich einladen. Für Tee und Kaffee so
 rgt bitte jede selbst. Die Zugangsdaten zu unserem Zoom-Raum schicken wir 
 Euch nach der Anmeldung.\n\nBitte anmelden bis 08.03.\, Telefon 030 6 21 4
 7 53 oder post@rut-berlin.de\n
ATTACH;FMTTYPE=image/jpeg:https://rut-berlin.de/wp-content/uploads/2021/02
 /emancipation-156066_1280.png
CATEGORIES:Begegnung,Café
LOCATION:Online\, Internet\, Link wird nach Anmeldung bekannt gegeben\, Deu
 tschland
X-APPLE-STRUCTURED-LOCATION;VALUE=URI;X-ADDRESS=Internet\, Link wird nach A
 nmeldung bekannt gegeben\, Deutschland;X-APPLE-RADIUS=100;X-TITLE=Online:g
 eo:0,0
END:VEVENT
END:VCALENDAR