BEGIN:VCALENDAR
VERSION:2.0
PRODID:-//wp-events-plugin.com//7.2.3.1//EN
TZID:Europe/Berlin
X-WR-TIMEZONE:Europe/Berlin
BEGIN:VEVENT
UID:749@rut-berlin.de
DTSTART:20220504T170000Z
DTEND:20220504T183000Z
DTSTAMP:20220429T100427Z
URL:https://rut-berlin.de/veranstaltungen/lesbencafe-im-cafe/
SUMMARY:Lesbencafé im Café
DESCRIPTION:Diesmal treffen wir uns in einem barrierearmen Café in Kreuzbe
 rg. Es besteht die Möglichkeit\, draußen zu sitzen. Für eine gemeinsame
  Anfahrt treffen wir uns um 16.30 Uhr vor dem RuT. Die Kosten für Speis u
 nd Trank trägt jede selbst.\nDen genauen Ort erfahrt ihr nach/bei Eurer A
 nmeldung.\n\nBitte meldet Euch bis zum 02.05. unter post@rut-berlin.de o
 der telefonisch unter 6 21 47 53 an.\nEs gelten die allgemeinen Hygienebes
 timmungen in öffentlicher Gastronomie. Falls es gesonderte Bestimmungen g
 ibt\, teilen wir Euch diese rechtzeitig mit.
ATTACH;FMTTYPE=image/jpeg:https://rut-berlin.de/wp-content/uploads/2021/01
 /coffee-tea-4849436_1280.png
CATEGORIES:Café
LOCATION:RuT – Rad und Tat\, Schillerpromenade 1\, Berlin\, 12049\, Deuts
 chland
X-APPLE-STRUCTURED-LOCATION;VALUE=URI;X-ADDRESS=Schillerpromenade 1\, Berli
 n\, 12049\, Deutschland;X-APPLE-RADIUS=100;X-TITLE=RuT – Rad und Tat:geo
 :0,0
END:VEVENT
END:VCALENDAR