BEGIN:VCALENDAR
VERSION:2.0
PRODID:-//wp-events-plugin.com//7.2.3.1//EN
TZID:Europe/Berlin
X-WR-TIMEZONE:Europe/Berlin
BEGIN:VEVENT
UID:765@rut-berlin.de
DTSTART:20220601T170000Z
DTEND:20220601T183000Z
DTSTAMP:20220516T134123Z
URL:https://rut-berlin.de/veranstaltungen/lesbencafe-in-kreuzberg/
SUMMARY:Lesbencafé in Kreuzberg
DESCRIPTION:Wir treffen uns in einem barrierearmen Café in Kreuzberg. Es b
 esteht die Möglichkeit\, draußen zu sitzen. Für eine gemeinsame Anfahrt
  treffen wir uns um 16.30 Uhr vor dem RuT.\nDie Kosten für Getränke/Spei
 sen trägt jede* selbst.\n\nDen genauen Ort erfahrt ihr nach Eurer Anmeldu
 ng.\nEs gelten die allgemeinen Hygienebestimmungen in öffentlicher Gastro
 nomie. Falls es gesonderte Bestimmungen gibt\, teilen wir Euch diese recht
 zeitig mit.\n\nAnmeldung bitte bis 30.05. unter 6 21 47 53 oder post@rut-b
 erlin.de
ATTACH;FMTTYPE=image/jpeg:https://rut-berlin.de/wp-content/uploads/2021/01
 /coffee-tea-4849436_1280.png
CATEGORIES:Café
LOCATION:RuT – Rad und Tat\, Schillerpromenade 1\, Berlin\, 12049\, Deuts
 chland
X-APPLE-STRUCTURED-LOCATION;VALUE=URI;X-ADDRESS=Schillerpromenade 1\, Berli
 n\, 12049\, Deutschland;X-APPLE-RADIUS=100;X-TITLE=RuT – Rad und Tat:geo
 :0,0
END:VEVENT
END:VCALENDAR