BEGIN:VCALENDAR
VERSION:2.0
PRODID:-//wp-events-plugin.com//7.2.3.1//EN
TZID:Europe/Berlin
X-WR-TIMEZONE:Europe/Berlin
BEGIN:VEVENT
UID:237@rut-berlin.de
DTSTART:20200726T100000Z
DTEND:20200726T130000Z
DTSTAMP:20200619T130338Z
URL:https://rut-berlin.de/veranstaltungen/lesbenfruehstueck-nochne-schripp
 e-nochn-ei-2020-07-26/
SUMMARY:Frühstück ist fertig! - entfällt leider!
DESCRIPTION:Gemeinsam bei köstlichem Büffet schlemmen\, plaudern und in d
 en Sonntag starten.
ATTACH;FMTTYPE=image/jpeg:https://rut-berlin.de/wp-content/uploads/2019/11
 /45218041_2306097106131160_4987708068729978880_n.jpg
CATEGORIES:Begegnung,Generationen
LOCATION:RuT – Rad und Tat\, Schillerpromenade 1\, Berlin\, 12049\, Deuts
 chland
X-APPLE-STRUCTURED-LOCATION;VALUE=URI;X-ADDRESS=Schillerpromenade 1\, Berli
 n\, 12049\, Deutschland;X-APPLE-RADIUS=100;X-TITLE=RuT – Rad und Tat:geo
 :0,0
END:VEVENT
END:VCALENDAR