BEGIN:VCALENDAR
VERSION:2.0
PRODID:-//wp-events-plugin.com//7.2.3.1//EN
TZID:Europe/Berlin
X-WR-TIMEZONE:Europe/Berlin
BEGIN:VEVENT
UID:1198@rut-berlin.de
DTSTART:20250403T160000Z
DTEND:20250403T173000Z
DTSTAMP:20250318T124759Z
URL:https://rut-berlin.de/veranstaltungen/neu-kulturgruppe-fuer-lesben-mit
 -und-ohne-behinderung-mit-gabriele/
SUMMARY:Neu: Kulturgruppe für Lesben* mit und ohne BeHinderung – mit Gab
 riele
DESCRIPTION:\n\n\nFür alle\, die Spaß an kulturellen Angeboten haben\, si
 ch für Kunst\, Film\, Musik\, Bücher\, Theater und andere kulturellen Ve
 ranstaltungen begeistern können und Lust haben Kultur gemeinsam zu genie
 ßen.\nDafür sind keine Vorkenntnisse nötig. Spaß und gegenseitiger Aus
 tausch stehen dabei im Vordergrund.\nDie Gruppe findet 1 x im Monat statt.
 \nBeim ersten Treffen schauen wir gemeinsam\, was euch interessiert und wo
 hin es im Mai gehen wird.\n\n\n
ATTACH;FMTTYPE=image/jpeg:https://rut-berlin.de/wp-content/uploads/2025/03
 /umbrellas-1281751_1280.jpg
CATEGORIES:Kultur
LOCATION:RuT – Rad und Tat\, Schillerpromenade 1\, Berlin\, 12049\, Deuts
 chland
X-APPLE-STRUCTURED-LOCATION;VALUE=URI;X-ADDRESS=Schillerpromenade 1\, Berli
 n\, 12049\, Deutschland;X-APPLE-RADIUS=100;X-TITLE=RuT – Rad und Tat:geo
 :0,0
END:VEVENT
END:VCALENDAR