BEGIN:VCALENDAR
VERSION:2.0
PRODID:-//wp-events-plugin.com//7.2.3.1//EN
TZID:Europe/Berlin
X-WR-TIMEZONE:Europe/Berlin
BEGIN:VEVENT
UID:1275@rut-berlin.de
DTSTART;TZID=Europe/Berlin:20251006T180000
DTEND;TZID=Europe/Berlin:20251006T191500
DTSTAMP:20250915T094748Z
URL:https://rut-berlin.de/veranstaltungen/qigong-mit-silke-die-18-harmonis
 chen-uebungen-2/
SUMMARY:Qigong mit Silke: Die 18 harmonischen Übungen
DESCRIPTION:\n\n\n\n\nQigong bewegt den Körper\, reguliert den Atem und be
 ruhigt den Geist. Die 18 harmonischen Bewegungen des Taiji Qigong verbinde
 n die sanften Bewegungen von Qigong und Taiji. Sie aktivieren alle Körper
 bereiche\, Gelenke und Meridiane. Die Übungen können im bewegten Stehen 
 und im Sitzen ausgeführt werden. Innere\, naturnahe Bilder lenken das Qi 
 und beleben die Vorstellungskraft.\nSilke ist anerkannte Kursleiterin der 
 Deutschen Qigong-Gesellschaft. Der Kurs gilt als Präventionskurs der Kran
 kenkassen. Die Kosten betragen 50 Euro/Monat. Die Krankenkasse erstattet i
 n der Regel 80 Prozent oder einmalig 150 Euro. Bitte individuell erfragen.
 \n\nFragen zum Kurs gerne per E-Mail an silke.qg@email.de\n\nDer Kurs find
 et bis 01. Dezember\, montags 18-19:15 Uhr statt.\nAnmeldung bitte bis 02.
 10. unter 6 21 47 53 oder post@rut-berlin.de\n\n\n\n\n
ATTACH;FMTTYPE=image/jpeg:https://rut-berlin.de/wp-content/uploads/2025/08
 /Qigong-Bild-neu-003.png
CATEGORIES:Gesundheit
LOCATION:RuT – Rad und Tat\, Schillerpromenade 1\, Berlin\, 12049\, Deuts
 chland
X-APPLE-STRUCTURED-LOCATION;VALUE=URI;X-ADDRESS=Schillerpromenade 1\, Berli
 n\, 12049\, Deutschland;X-APPLE-RADIUS=100;X-TITLE=RuT – Rad und Tat:geo
 :0,0
END:VEVENT
BEGIN:VTIMEZONE
TZID:Europe/Berlin
X-LIC-LOCATION:Europe/Berlin
BEGIN:DAYLIGHT
DTSTART:20250330T030000
TZOFFSETFROM:+0100
TZOFFSETTO:+0200
TZNAME:CEST
END:DAYLIGHT
END:VTIMEZONE
END:VCALENDAR