BEGIN:VCALENDAR
VERSION:2.0
PRODID:-//wp-events-plugin.com//7.2.3.1//EN
TZID:Europe/Berlin
X-WR-TIMEZONE:Europe/Berlin
BEGIN:VEVENT
UID:607@rut-berlin.de
DTSTART:20210610T170000Z
DTEND:20210610T183000Z
DTSTAMP:20210518T101301Z
URL:https://rut-berlin.de/veranstaltungen/queer-in-gruppenangebot-fuer-que
 ere-menschen-mit-behinderung-online-5/
SUMMARY:Queer In – Gruppenangebot für queere Menschen mit BeHinderung - 
 Online
DESCRIPTION:Gruppenangebot für queere Menschen mit BeHinderung\, chronisch
 er Erkrankung\, Krisen-/Psychiatrieerfahrung \nLiebe Queer In - Interessie
 rte\,\nam Donnerstag\, 10. Juni\, 17-18.30 Uhr wird es das nächste Treffe
 n auf zoom geben.\nAb 16.30 Uhr gibt es wieder die Möglichkeit schon mal 
 zoom zu testen.\n\nWir freuen uns\, wenn ihr (wieder) dabei seid!\n\nFür 
 dieses Treffen haben wir uns als Thema „Community Care“ überlegt. Wir
  haben Lust darüber zu sprechen.\n\nZur Anmeldung und dem zoom Link schre
 ibt bitte wieder eine Mail an: infrastruktur@rut-berlin.de\nEs wird DGS Do
 lmetschung geben und ihr könnt uns schreiben\, wenn ihr etwas braucht\, u
 m (gut) an dem Treffen teilnehmen zu können.
ATTACH;FMTTYPE=image/jpeg:https://rut-berlin.de/wp-content/uploads/2020/11
 /Flyer_QUEER-IN_barrierefrei.jpg
CATEGORIES:barrierefrei,Gruppe
LOCATION:Online\, Internet\, Link wird nach Anmeldung bekannt gegeben\, Deu
 tschland
X-APPLE-STRUCTURED-LOCATION;VALUE=URI;X-ADDRESS=Internet\, Link wird nach A
 nmeldung bekannt gegeben\, Deutschland;X-APPLE-RADIUS=100;X-TITLE=Online:g
 eo:0,0
END:VEVENT
END:VCALENDAR