BEGIN:VCALENDAR
VERSION:2.0
PRODID:-//wp-events-plugin.com//7.2.3.1//EN
TZID:Europe/Berlin
X-WR-TIMEZONE:Europe/Berlin
BEGIN:VEVENT
UID:783@rut-berlin.de
DTSTART:20220612T111500Z
DTEND:20220612T170000Z
DTSTAMP:20220603T132420Z
URL:https://rut-berlin.de/veranstaltungen/sommercafe-dr-fraenkels-landhaus
 garten-und-waldwanderung-zum-sacrower-see/
SUMMARY:Sommercafé Dr. Fraenkels Landhausgarten und Waldwanderung zum Sacr
 ower See
DESCRIPTION:Für Frauen mit und ohne Behinderung\nSommercafé mit Havelblic
 k im Dr. Fraenkels Landhausgarten und Waldwanderung zum Sacrower See. Wir 
 fahren mit der Fähre nach Kladow\, gehen\nca. 1\,8 km zum Dr. Fraenkels L
 andhausgarten. Unsere Frauen mit Behinderung erkunden dort die Gartenanlag
 e\, die anderen beginnen ihre ca. 4\,5 km Wanderung.\nAls Abschluss treffe
 n wir im Cafe wieder zusammen.\n\nTreff: 11.20 Uhr Auf dem S-Bhf. Wannsee\
 nKosten: 3€ Förderin/5€ Nicht-Förderin\n\nBitte anmelden bis 09.06. 
 unter 6 21 47 53 oder post@rut-berlin.de
ATTACH;FMTTYPE=image/jpeg:https://rut-berlin.de/wp-content/uploads/2022/05
 /Frauen-wandern.jpg
CATEGORIES:Outdoor
LOCATION:S-Bhf. Wannsee\, auf dem S-Bhf. Wannsee\, Berlin\, Deutschland
X-APPLE-STRUCTURED-LOCATION;VALUE=URI;X-ADDRESS=auf dem S-Bhf. Wannsee\, Be
 rlin\, Deutschland;X-APPLE-RADIUS=100;X-TITLE=S-Bhf. Wannsee:geo:0,0
END:VEVENT
END:VCALENDAR