BEGIN:VCALENDAR
VERSION:2.0
PRODID:-//wp-events-plugin.com//7.2.3.1//EN
TZID:Europe/Berlin
X-WR-TIMEZONE:Europe/Berlin
BEGIN:VEVENT
UID:638@rut-berlin.de
DTSTART:20210805T173000Z
DTEND:20210805T200000Z
DTSTAMP:20210715T165454Z
URL:https://rut-berlin.de/veranstaltungen/sommerliches-tanzen-auf-dem-temp
 elhofer-feld-3/
SUMMARY:Sommerliches Tanzen auf dem Tempelhofer Feld
DESCRIPTION:Wir treffen uns im RuT\, gehen zum Tempelhofer Feld\, lernen ei
 nige Kreistanzschritte und tanzen gemeinsam in der Abendsonne.\nHerzliche 
 Einladung an lesbische\, bisexuelle und andere Frauen* mit und ohne Migrat
 ionsgeschichte.\nBei Regen fällt die Veranstaltung aus.\nKostenfrei – S
 penden willkommen\n\nBitte anmelden bis Mittwoch davor unter Telefon 030 6
  21 47 53 oder post@rut-berlin.de\n\nAchtung Anmerkung \nDie Voraussetzung
  zur Teilnahme an unseren Präsenzveranstaltungen: geimpft\, genesen oder 
 getestet\, aktuelle Abstands- und Hygienevorschriften werden eingehalten.
ATTACH;FMTTYPE=image/jpeg:https://rut-berlin.de/wp-content/uploads/2020/07
 /kreistanz.png
CATEGORIES:Outdoor
LOCATION:RuT – Rad und Tat\, Schillerpromenade 1\, Berlin\, 12049\, Deuts
 chland
X-APPLE-STRUCTURED-LOCATION;VALUE=URI;X-ADDRESS=Schillerpromenade 1\, Berli
 n\, 12049\, Deutschland;X-APPLE-RADIUS=100;X-TITLE=RuT – Rad und Tat:geo
 :0,0
END:VEVENT
END:VCALENDAR