BEGIN:VCALENDAR
VERSION:2.0
PRODID:-//wp-events-plugin.com//7.2.3.1//EN
TZID:Europe/Berlin
X-WR-TIMEZONE:Europe/Berlin
BEGIN:VEVENT
UID:867@rut-berlin.de
DTSTART:20230211T110000Z
DTEND:20230211T160000Z
DTSTAMP:20230130T175012Z
URL:https://rut-berlin.de/veranstaltungen/wanderung-zum-aeltesten-dorf-ber
 lins-mit-regina/
SUMMARY:Wanderung zum ältesten Dorf Berlins - mit Regina
DESCRIPTION:Eine 9 km Wanderung führt uns vorbei am Reiterhof\, durch das 
 NSG Kindelwald. Auf gemütlichen Wald- und Feldwegen am Kindelfließ entla
 ng kommen wir zum Dorf Lübars und können dort im Restaurant Landhaus ein
 kehren.\nBitte denkt an Picknick\, wetterfeste Kleidung\, Sitzunterlage\n\
 nTreffpunkt: S-Bhf. Schönfließ\, 11.04 Uhr\, S8 ABC-Tarif\nbitte beachte
 t die BVG-Situation an diesem Tag\nRückfahrt mit Bus 222\, AB-Tarif\n\nKo
 sten: 3 € für Förderinnen/für alle anderen 5 €\n\nAnmeldung bitte b
 is 09.02. unter post@rut-berlin.de oder 030 6 21 47 53\nBitte bei Anmeldun
 g eure Telefonnummer angeben.\n
ATTACH;FMTTYPE=image/jpeg:https://rut-berlin.de/wp-content/uploads/2022/07
 /Wandern.jpg
CATEGORIES:Outdoor
LOCATION:S-Bahnhof Schönfließ\, S-Bhf. Schönfließ\, Schönfließ\, Bran
 denburg\, Deutschland
X-APPLE-STRUCTURED-LOCATION;VALUE=URI;X-ADDRESS=S-Bhf. Schönfließ\, Schö
 nfließ\, Brandenburg\, Deutschland;X-APPLE-RADIUS=100;X-TITLE=S-Bahnhof S
 chönfließ:geo:0,0
END:VEVENT
END:VCALENDAR