BEGIN:VCALENDAR
VERSION:2.0
PRODID:-//wp-events-plugin.com//7.2.3.1//EN
TZID:Europe/Berlin
X-WR-TIMEZONE:Europe/Berlin
BEGIN:VEVENT
UID:1010@rut-berlin.de
DTSTART:20240108T163000Z
DTEND:20240108T180000Z
DTSTAMP:20231215T102106Z
URL:https://rut-berlin.de/veranstaltungen/zeit-fuer-austausch-gespraechsgr
 uppe-zwischen-alt-und-jung-mit-anne-ole/
SUMMARY:Zeit für Austausch – Gesprächsgruppe zwischen Alt und Jung mit 
 Anne-Ole
DESCRIPTION:\n\n\n\n\nWie ist es bei den jüngeren? Wie ist es bei den ält
 eren? – Lasst uns einander fragen\, statt übereinander zu reden. In der
  Gesprächsgruppe beschäftigen wir uns mit neueren und älteren politisch
 en und persönlichen Themen. Gesprächsideen sind willkommen!\nBitte kommt
  getestet (Vertrauensbasis).\nThema im Januar: Szene-Codes.\n\nAnmeldung b
 itte bis 05.01. unter 6 21 47 53 oder post@rut-berlin.de\n\n\n\n\n\n
ATTACH;FMTTYPE=image/jpeg:https://rut-berlin.de/wp-content/uploads/2022/10
 /2022_Titelbild-BD.jpg
CATEGORIES:barrierearm,Begegnung,Generationen
LOCATION:RuT – Rad und Tat\, Schillerpromenade 1\, Berlin\, 12049\, Deuts
 chland
X-APPLE-STRUCTURED-LOCATION;VALUE=URI;X-ADDRESS=Schillerpromenade 1\, Berli
 n\, 12049\, Deutschland;X-APPLE-RADIUS=100;X-TITLE=RuT – Rad und Tat:geo
 :0,0
END:VEVENT
END:VCALENDAR