BEGIN:VCALENDAR
VERSION:2.0
PRODID:-//wp-events-plugin.com//7.2.3.1//EN
TZID:Europe/Berlin
X-WR-TIMEZONE:Europe/Berlin
BEGIN:VEVENT
UID:1190@rut-berlin.de
DTSTART:20250310T163000Z
DTEND:20250310T180000Z
DTSTAMP:20250214T105825Z
URL:https://rut-berlin.de/veranstaltungen/zeit-fuer-austausch-gespraechsgr
 uppe-zwischen-alt-und-jung-mit-dajana-und-anne-ole-3/
SUMMARY:Zeit für Austausch – Gesprächsgruppe zwischen Alt und Jung mit 
 Dajana und Anne Ole
DESCRIPTION:\n\n\n\n\nWie ist es bei den jüngeren? Wie ist es bei den ält
 eren? – Lasst uns einander fragen\, statt übereinander zu reden. In der
  Gesprächsgruppe beschäftigen wir uns mit neueren und älteren politisch
 en und persönlichen Themen. Bringt gern Eure Themen mit.\n\n&nbsp\;\n\n\n
 \n\n
ATTACH;FMTTYPE=image/jpeg:https://rut-berlin.de/wp-content/uploads/2022/10
 /2022_Titelbild-BD.jpg
CATEGORIES:Begegnung
LOCATION:RuT – Rad und Tat\, Schillerpromenade 1\, Berlin\, 12049\, Deuts
 chland
X-APPLE-STRUCTURED-LOCATION;VALUE=URI;X-ADDRESS=Schillerpromenade 1\, Berli
 n\, 12049\, Deutschland;X-APPLE-RADIUS=100;X-TITLE=RuT – Rad und Tat:geo
 :0,0
END:VEVENT
END:VCALENDAR